BEGIN:VCALENDAR
VERSION:2.0
PRODID:-//Bournemouth and Poole Medical Society - ECPv6.15.20//NONSGML v1.0//EN
CALSCALE:GREGORIAN
METHOD:PUBLISH
X-ORIGINAL-URL:https://bpmedsociety.org
X-WR-CALDESC:Events for Bournemouth and Poole Medical Society
REFRESH-INTERVAL;VALUE=DURATION:PT1H
X-Robots-Tag:noindex
X-PUBLISHED-TTL:PT1H
BEGIN:VTIMEZONE
TZID:UTC
BEGIN:STANDARD
TZOFFSETFROM:+0000
TZOFFSETTO:+0000
TZNAME:UTC
DTSTART:20230101T000000
END:STANDARD
END:VTIMEZONE
BEGIN:VEVENT
DTSTART;TZID=UTC:20241024T120000
DTEND;TZID=UTC:20241024T150000
DTSTAMP:20260421T121346
CREATED:20240610T132439Z
LAST-MODIFIED:20240718T143850Z
UID:263-1729771200-1729782000@bpmedsociety.org
SUMMARY:AGM\, Luncheon and presentation by Dorset Police & Crime Commissioner
DESCRIPTION:A short AGM to elect the new Officers of the Society followed by Luncheon and then a talk by Mr David Sidwick.\nMr Sidwick worked within the pharmaceutical industry and set up his own consultancy facilitating the education of care professionals. He was a Non-Exec Director for a healthcare company and Secretary to a foundation which awarded grants to medical professionals. \nMr Sidwick was also Chair of Bournemouth School \nTo reserve places  click here \n 
URL:https://bpmedsociety.org/event/agm-luncheon-and-presentation-by-dorset-police-crime-commissioner/
LOCATION:Hotel Miramar\, East Overcliff Drive\,\, Bournemouth\, Dorset\, BH1 3AL\, United Kingdom
ORGANIZER;CN="Secretary BPMS":MAILTO:bournemouthpoolemedsoc@gmail.com
END:VEVENT
END:VCALENDAR