BEGIN:VCALENDAR
VERSION:2.0
PRODID:-//Bournemouth and Poole Medical Society - ECPv6.15.20//NONSGML v1.0//EN
CALSCALE:GREGORIAN
METHOD:PUBLISH
X-ORIGINAL-URL:https://bpmedsociety.org
X-WR-CALDESC:Events for Bournemouth and Poole Medical Society
REFRESH-INTERVAL;VALUE=DURATION:PT1H
X-Robots-Tag:noindex
X-PUBLISHED-TTL:PT1H
BEGIN:VTIMEZONE
TZID:Europe/London
BEGIN:DAYLIGHT
TZOFFSETFROM:+0000
TZOFFSETTO:+0100
TZNAME:BST
DTSTART:20250330T010000
END:DAYLIGHT
BEGIN:STANDARD
TZOFFSETFROM:+0100
TZOFFSETTO:+0000
TZNAME:GMT
DTSTART:20251026T010000
END:STANDARD
BEGIN:DAYLIGHT
TZOFFSETFROM:+0000
TZOFFSETTO:+0100
TZNAME:BST
DTSTART:20260329T010000
END:DAYLIGHT
BEGIN:STANDARD
TZOFFSETFROM:+0100
TZOFFSETTO:+0000
TZNAME:GMT
DTSTART:20261025T010000
END:STANDARD
BEGIN:DAYLIGHT
TZOFFSETFROM:+0000
TZOFFSETTO:+0100
TZNAME:BST
DTSTART:20270328T010000
END:DAYLIGHT
BEGIN:STANDARD
TZOFFSETFROM:+0100
TZOFFSETTO:+0000
TZNAME:GMT
DTSTART:20271031T010000
END:STANDARD
BEGIN:DAYLIGHT
TZOFFSETFROM:+0000
TZOFFSETTO:+0100
TZNAME:BST
DTSTART:20280326T010000
END:DAYLIGHT
BEGIN:STANDARD
TZOFFSETFROM:+0100
TZOFFSETTO:+0000
TZNAME:GMT
DTSTART:20281029T010000
END:STANDARD
END:VTIMEZONE
BEGIN:VEVENT
DTSTART;TZID=Europe/London:20260115T123000
DTEND;TZID=Europe/London:20260115T153000
DTSTAMP:20260424T091842
CREATED:20250510T140205Z
LAST-MODIFIED:20260105T135612Z
UID:531-1768480200-1768491000@bpmedsociety.org
SUMMARY:A Journey from Oncology to Aesthetic Medicine
DESCRIPTION:Dr Fiona McCarthy will speak of her personal evolving career path and interest \n  \n 
URL:https://bpmedsociety.org/event/save-the-date/
LOCATION:Parkstone Golf Club\, 49a Links Road\, Poole\, Dorset\, BH14 9QS\, United Kingdom
END:VEVENT
BEGIN:VEVENT
DTSTART;TZID=Europe/London:20260219T110000
DTEND;TZID=Europe/London:20260219T153000
DTSTAMP:20260424T091842
CREATED:20250510T140354Z
LAST-MODIFIED:20260212T182927Z
UID:533-1771498800-1771515000@bpmedsociety.org
SUMMARY:When Did Medicine Start Doing Any Good
DESCRIPTION:Dr Gordon Jackson FRCP \nDr Jackson is a retired cardiologist who will take us on a fascinating romp through medical history with various anecdotes of peril\, pitfall and breakthroughs \n  \n  \n 
URL:https://bpmedsociety.org/event/save-the-date-2/
LOCATION:Parkstone Yacht Club- upper deck\, Pearce Avenue\, Poole\, BH14 8EH
END:VEVENT
BEGIN:VEVENT
DTSTART;TZID=Europe/London:20260319T180000
DTEND;TZID=Europe/London:20260319T220000
DTSTAMP:20260424T091842
CREATED:20250510T140633Z
LAST-MODIFIED:20260315T203127Z
UID:536-1773943200-1773957600@bpmedsociety.org
SUMMARY:Plants & Minds
DESCRIPTION:Maria Tidy manages the Cherry Tree Nursery \n  \n  \n 
URL:https://bpmedsociety.org/event/plants-minds/
LOCATION:Parkstone Yacht Club – Lower Deck\, Pearce Avenue\, Poole\, Dorset\, BH14 8QP
END:VEVENT
BEGIN:VEVENT
DTSTART;TZID=Europe/London:20260416T183000
DTEND;TZID=Europe/London:20260416T220000
DTSTAMP:20260424T091842
CREATED:20250510T140819Z
LAST-MODIFIED:20260413T113924Z
UID:538-1776364200-1776376800@bpmedsociety.org
SUMMARY:An Unconventional F3 to F5 - Life of a General Duty Medical Officer in the British Army
DESCRIPTION:Major Beth Barraclough RAMS will present a fascinating talk about military medicine both in the UK and whilst on deploymen \n 
URL:https://bpmedsociety.org/event/ramc-emergency-medicine/
LOCATION:Parkstone Golf Club\, 49a Links Road\, Poole\, Dorset\, BH14 9QS\, United Kingdom
END:VEVENT
BEGIN:VEVENT
DTSTART;TZID=Europe/London:20260521T110000
DTEND;TZID=Europe/London:20260521T150000
DTSTAMP:20260424T091842
CREATED:20250529T190727Z
LAST-MODIFIED:20260413T115836Z
UID:576-1779361200-1779375600@bpmedsociety.org
SUMMARY:Tour of Museum and Luncheon at Scaplen's Court Museum
DESCRIPTION:Guided tour of outstandingly refurbished museum showing much of our heritage and history of Poole. A beautifully preserved Grade 1 listed merchant’s house \nTo choose menu and pay\,  please log-on: \nhttps://bpmedsociety.org/event-ticket-menu-choices/ \nA receipt of acknowledgment will immediately arrive in your email box when the form and payment have been completed. In the remote event of this not occurring please contact the Secretary. \nRegrettably\, a handling fee of £5.00 needs to be charged for any cancellation as this is a cost on the Society incurred by the Stripe card transaction \n  \n 
URL:https://bpmedsociety.org/event/save-the-day-in-may/
LOCATION:Scaplen’s Court\, Sarum Street\, Poole\, Dorset\, BH15 1JW\, United Kingdom
END:VEVENT
BEGIN:VEVENT
DTSTART;TZID=Europe/London:20260618T123000
DTEND;TZID=Europe/London:20260618T170000
DTSTAMP:20260424T091842
CREATED:20250510T141006Z
LAST-MODIFIED:20250714T175441Z
UID:540-1781785800-1781802000@bpmedsociety.org
SUMMARY:Summer Party with the President at Branksome Dean Rooms
DESCRIPTION:An outstanding venue for a Summer Party and well known to many locals.
URL:https://bpmedsociety.org/event/summer-party/
LOCATION:branksome Dean Rooms\, Branksome Dean\, Pinewodd Road\, Poole\, Dorset\, BH13 6FB\, United Kingdom
END:VEVENT
BEGIN:VEVENT
DTSTART;TZID=Europe/London:20261022T123000
DTEND;TZID=Europe/London:20261022T150000
DTSTAMP:20260424T091842
CREATED:20260422T082857Z
LAST-MODIFIED:20260423T184725Z
UID:1060-1792672200-1792681200@bpmedsociety.org
SUMMARY:AGM
DESCRIPTION:Our new President Dr Rudy Capildeo will be installed and after lunch talk describing how learning from Parkinson’s Disease can influence our daily lives and well being
URL:https://bpmedsociety.org/event/agm/
LOCATION:Hotel Miramar\, East Overcliff Drive\,\, Bournemouth\, Dorset\, BH1 3AL\, United Kingdom
END:VEVENT
BEGIN:VEVENT
DTSTART;TZID=Europe/London:20261119T183000
DTEND;TZID=Europe/London:20261119T220000
DTSTAMP:20260424T091842
CREATED:20260423T184254Z
LAST-MODIFIED:20260423T184254Z
UID:1062-1795113000-1795125600@bpmedsociety.org
SUMMARY:Subject TBA
DESCRIPTION:Dr Miles Russell is the Principal Archeologist at Bournemouth University
URL:https://bpmedsociety.org/event/subject-tba/
LOCATION:Hotel Miramar\, East Overcliff Drive\,\, Bournemouth\, Dorset\, BH1 3AL\, United Kingdom
END:VEVENT
BEGIN:VEVENT
DTSTART;TZID=Europe/London:20261204T183000
DTEND;TZID=Europe/London:20261204T220000
DTSTAMP:20260424T091842
CREATED:20260423T185044Z
LAST-MODIFIED:20260423T185044Z
UID:1066-1796409000-1796421600@bpmedsociety.org
SUMMARY:Murder Mystery Dinner
DESCRIPTION:Sherlock Holmes will be on hand\, the food fantastic and all with good company.
URL:https://bpmedsociety.org/event/murder-mystery-dinner/
LOCATION:Hotel Miramar\, East Overcliff Drive\,\, Bournemouth\, Dorset\, BH1 3AL\, United Kingdom
END:VEVENT
BEGIN:VEVENT
DTSTART;TZID=Europe/London:20270114T123000
DTEND;TZID=Europe/London:20270114T153000
DTSTAMP:20260424T091842
CREATED:20260423T185508Z
LAST-MODIFIED:20260423T185508Z
UID:1068-1799929800-1799940600@bpmedsociety.org
SUMMARY:TBA but about a influential Southbourne GP
DESCRIPTION:Dr Chris Williams has researched a past President of the B&PMS who was very involved the local community. Southbourne Pier was his brainchild
URL:https://bpmedsociety.org/event/tba-but-about-a-influential-southbourne-gp/
LOCATION:The Captains Club\, Wick Ferry\, Christchurch\, Dorset\, BH23 1HU\, United Kingdom
END:VEVENT
BEGIN:VEVENT
DTSTART;TZID=Europe/London:20270225T123000
DTEND;TZID=Europe/London:20270225T160000
DTSTAMP:20260424T091842
CREATED:20260423T185739Z
LAST-MODIFIED:20260423T191214Z
UID:1070-1803558600-1803571200@bpmedsociety.org
SUMMARY:Isaac Gulliver
DESCRIPTION:Richard Hutley is an outstanding speaker who has researched our most famous pirate
URL:https://bpmedsociety.org/event/isaac-gulliver/
LOCATION:Parkstone Yacht Club- upper deck\, Pearce Avenue\, Poole\, BH14 8EH
END:VEVENT
BEGIN:VEVENT
DTSTART;TZID=Europe/London:20270318T203000
DTEND;TZID=Europe/London:20270318T220000
DTSTAMP:20260424T091842
CREATED:20260423T190049Z
LAST-MODIFIED:20260423T190049Z
UID:1072-1805401800-1805407200@bpmedsociety.org
SUMMARY:A Coroner's Tale
DESCRIPTION:Mr Brendan Allen will discuss the work of the coroner
URL:https://bpmedsociety.org/event/a-coroners-tale/
LOCATION:Hotel Miramar\, East Overcliff Drive\,\, Bournemouth\, Dorset\, BH1 3AL\, United Kingdom
END:VEVENT
BEGIN:VEVENT
DTSTART;TZID=Europe/London:20270422T123000
DTEND;TZID=Europe/London:20270422T160000
DTSTAMP:20260424T091842
CREATED:20260423T190425Z
LAST-MODIFIED:20260423T190425Z
UID:1074-1808397000-1808409600@bpmedsociety.org
SUMMARY:Surgery for the injured of Gaza
DESCRIPTION:Mr Tahseen Qureshi is a consultant Surgeon from Bournemouth who has spent several tours of care in Gaza
URL:https://bpmedsociety.org/event/surgery-for-the-injured-of-gaza/
LOCATION:Parkstone Yacht Club- upper deck\, Pearce Avenue\, Poole\, BH14 8EH
END:VEVENT
BEGIN:VEVENT
DTSTART;TZID=Europe/London:20270520T183000
DTEND;TZID=Europe/London:20270520T220000
DTSTAMP:20260424T091842
CREATED:20260423T190835Z
LAST-MODIFIED:20260423T190851Z
UID:1076-1810837800-1810850400@bpmedsociety.org
SUMMARY:Could Obesity and Diabetes have any connection
DESCRIPTION:Professor Partha Kay is an emminent Endocrinologist specialising in Diabetes. He is based in Portsmouth and is known for his clear speaking and views.
URL:https://bpmedsociety.org/event/could-obesity-and-diabetes-have-any-connection/
LOCATION:Hotel Miramar\, East Overcliff Drive\,\, Bournemouth\, Dorset\, BH1 3AL\, United Kingdom
END:VEVENT
END:VCALENDAR