BEGIN:VCALENDAR
VERSION:2.0
PRODID:-//Bournemouth and Poole Medical Society - ECPv6.15.20//NONSGML v1.0//EN
CALSCALE:GREGORIAN
METHOD:PUBLISH
X-WR-CALNAME:Bournemouth and Poole Medical Society
X-ORIGINAL-URL:https://bpmedsociety.org
X-WR-CALDESC:Events for Bournemouth and Poole Medical Society
REFRESH-INTERVAL;VALUE=DURATION:PT1H
X-Robots-Tag:noindex
X-PUBLISHED-TTL:PT1H
BEGIN:VTIMEZONE
TZID:Europe/London
BEGIN:DAYLIGHT
TZOFFSETFROM:+0000
TZOFFSETTO:+0100
TZNAME:BST
DTSTART:20250330T010000
END:DAYLIGHT
BEGIN:STANDARD
TZOFFSETFROM:+0100
TZOFFSETTO:+0000
TZNAME:GMT
DTSTART:20251026T010000
END:STANDARD
BEGIN:DAYLIGHT
TZOFFSETFROM:+0000
TZOFFSETTO:+0100
TZNAME:BST
DTSTART:20260329T010000
END:DAYLIGHT
BEGIN:STANDARD
TZOFFSETFROM:+0100
TZOFFSETTO:+0000
TZNAME:GMT
DTSTART:20261025T010000
END:STANDARD
BEGIN:DAYLIGHT
TZOFFSETFROM:+0000
TZOFFSETTO:+0100
TZNAME:BST
DTSTART:20270328T010000
END:DAYLIGHT
BEGIN:STANDARD
TZOFFSETFROM:+0100
TZOFFSETTO:+0000
TZNAME:GMT
DTSTART:20271031T010000
END:STANDARD
END:VTIMEZONE
BEGIN:VEVENT
DTSTART;TZID=Europe/London:20260422T123000
DTEND;TZID=Europe/London:20261022T150000
DTSTAMP:20260423T110618
CREATED:20260422T082857Z
LAST-MODIFIED:20260422T082903Z
UID:1060-1776861000-1792681200@bpmedsociety.org
SUMMARY:AGM
DESCRIPTION:Our new President Dr Rudy Capildeo will be installed and give a talk
URL:https://bpmedsociety.org/event/agm/
LOCATION:Hotel Miramar\, East Overcliff Drive\,\, Bournemouth\, Dorset\, BH1 3AL\, United Kingdom
END:VEVENT
END:VCALENDAR